BEGIN:VCALENDAR
VERSION:2.0
PRODID:-//Tukios.com/
BEGIN:VEVENT
UID:c372f146-c74b-4a21-b411-bc63602be03d@www.skrochfc.com
DTSTAMP:20260423T013527Z
DTSTART:20260428T153000Z
DTEND:20260428T163000Z
SUMMARY:Mass
DESCRIPTION:
URL:https://www.skrochfc.com/obituaries/james-lahr
LOCATION:St. Simon and Jude Catholic Church 105 S Bates St  Flandreau SD 
	57028
GEO:44.048114;-96.5890889
END:VEVENT
END:VCALENDAR