BEGIN:VCALENDAR
VERSION:2.0
PRODID:-//Tukios.com/
BEGIN:VEVENT
UID:01de21f6-d7e5-4b47-8733-526e3a727851@www.skrochfc.com
DTSTAMP:20260423T013355Z
DTSTART:20260428T000000Z
DTEND:20260428T010000Z
SUMMARY:Prayer Service
DESCRIPTION:
URL:https://www.skrochfc.com/obituaries/james-lahr
LOCATION:Skroch Funeral Chapel 409 E 2nd Ave  Flandreau SD 57028
GEO:44.0491711;-96.5884574
END:VEVENT
END:VCALENDAR