BEGIN:VCALENDAR
VERSION:2.0
PRODID:-//Tukios.com/
BEGIN:VEVENT
UID:c3c9d4ef-260c-4d16-a6ef-e6f7bd82ba42@www.skrochfc.com
DTSTAMP:20260423T013803Z
DTSTART:20260427T220000Z
DTEND:20260428T000000Z
SUMMARY:Visitation
DESCRIPTION:
URL:https://www.skrochfc.com/obituaries/james-lahr
LOCATION:Skroch Funeral Chapel 409 E 2nd Ave  Flandreau SD 57028
GEO:44.0491711;-96.5884574
END:VEVENT
END:VCALENDAR